BEGIN:VCALENDAR
VERSION:2.0
PRODID:BruderschaftGymnich/public
X-APPLE-CALENDAR-COLOR:#0063b5
X-OUTLOOK-COLOR:#0063b5
X-FUNAMBOL-COLOR:#0063b5
X-WR-CALNAME:Öffentlich - BruderschaftGymnich
X-WR-CALDESC:Termine der St. Seb. Bruderschaft Gymnich 1139 e.V.
BEGIN:VEVENT
UID:31cf6172-bb23-5828-9e4e-caaee5cc3d9c@bruderschaftgymnich
DTSTART;VALUE=DATE:20250302
SEQUENCE:0
TRANSP:OPAQUE
URL:https://bruderschaftgymnich.de/termine/after-zoch-party-im-bruderschaft
 shaus-2025-03-02
LOCATION:Brüggener Str. 113\, 50374 Erftstadt
SUMMARY:After-Zoch-Party im Bruderschaftshaus
CLASS:PUBLIC
DESCRIPTION:🎉 Feiert mit uns nach dem Gymnicher Karnevalszug! 🥳 Nach 
 dem einzigartigen Gymnicher Karnevalszug seid ihr alle herzlich eingeladen
 \, die legendäre After-Zoch-Party im Bruderschaftshaus zu erleben! Seit v
 ielen Jahren sind wir DIE Anlaufstelle im Ort\, um den Karnevalszug gebüh
 rend ausklingen zu lassen. 🎶 Musikalisches Highlight: DJ Kai Tanzt zu d
 en angesagtesten Karnevalshits und aktuellen Beats. Stimmungsgarantie bis 
 in die späten Stunden! 🍻 Pittermännchen und mehr: Genießt die Pitter
 männchen zum fairen Preis und weitere erfrischende Getränke. Unser Theke
 nteam steht bereit\, um euch bestens zu bewirten. 🕖 Beginn: Start der A
 fter-Zoch-Party direkt nach dem Gymnicher Karnevalszug 🎟️ Eintritt: 
 🎉 FREI! Die beste Art\, den Karneval gemeinsam zu feiern.  🤝 Für al
 le Karnevalsfreunde aus Gymnich und Umgebung: Kommt vorbei und feiert mit 
 uns! Egal\, ob ihr am Zug teilgenommen habt oder einfach nur Spaß am Karn
 eval habt – bei uns seid ihr herzlich willkommen. Wir freuen uns auf ein
 e ausgelassene After-Zoch-Party mit euch! 🥳 #AfterZochParty #Karnevalin
 Gymnich 
X-MICROSOFT-CDO-ALLDAYEVENT:TRUE
DTSTAMP:20260421T052429Z
CREATED:20240926T141207Z
LAST-MODIFIED:20250124T203757Z
END:VEVENT
END:VCALENDAR