BEGIN:VCALENDAR
VERSION:2.0
PRODID:BruderschaftGymnich/public
X-APPLE-CALENDAR-COLOR:#0063b5
X-OUTLOOK-COLOR:#0063b5
X-FUNAMBOL-COLOR:#0063b5
X-WR-CALNAME:Öffentlich - BruderschaftGymnich
X-WR-CALDESC:Termine der St. Seb. Bruderschaft Gymnich 1139 e.V.
BEGIN:VEVENT
UID:12ff0924-dd87-5b94-b858-5117765b8d1b@bruderschaftgymnich
DTSTART:20190620T210000Z
SEQUENCE:0
TRANSP:OPAQUE
DTEND:20190620T210000Z
URL:https://bruderschaftgymnich.de/termine/familientag-20-06-2019
LOCATION:Bruderschaftshaus\, Brüggener Str. 113
SUMMARY:Familientag
CLASS:PUBLIC
DESCRIPTION:im Anschluss an die Fronleichnahmsprozession findet der Familie
 ntag auf unserem Bruderschaftsgelände statt. 
DTSTAMP:20260422T041432Z
CREATED:20181203T182641Z
LAST-MODIFIED:20190708T171439Z
END:VEVENT
END:VCALENDAR