BEGIN:VCALENDAR
VERSION:2.0
PRODID:BruderschaftGymnich/public
X-APPLE-CALENDAR-COLOR:#0063b5
X-OUTLOOK-COLOR:#0063b5
X-FUNAMBOL-COLOR:#0063b5
X-WR-CALNAME:Öffentlich - BruderschaftGymnich
X-WR-CALDESC:Termine der St. Seb. Bruderschaft Gymnich 1139 e.V.
BEGIN:VEVENT
UID:232c1701-fefc-557d-a1ba-d07763027fd5@bruderschaftgymnich
DTSTART:20211002T150000Z
SEQUENCE:0
TRANSP:OPAQUE
URL:https://bruderschaftgymnich.de/termine/federweisserfest-2021-10-02
LOCATION:St. Seb. Schützenbruderschaft Herrig
SUMMARY:Federweißerfest
CLASS:PUBLIC
DESCRIPTION:Federweißerfest der St. Seb. Schützenbruderschaft Herrig. Wei
 tere Informationen unter: https://de-de.facebook.com/events/98912392860938
 5/ 
DTSTAMP:20260423T120017Z
CREATED:20210830T082958Z
LAST-MODIFIED:20210830T082958Z
END:VEVENT
END:VCALENDAR