BEGIN:VCALENDAR
VERSION:2.0
PRODID:BruderschaftGymnich/public
X-APPLE-CALENDAR-COLOR:#0063b5
X-OUTLOOK-COLOR:#0063b5
X-FUNAMBOL-COLOR:#0063b5
X-WR-CALNAME:Öffentlich - BruderschaftGymnich
X-WR-CALDESC:Termine der St. Seb. Bruderschaft Gymnich 1139 e.V.
BEGIN:VEVENT
UID:fe95c6bf-3aa6-5438-9fa5-95574a70565e@bruderschaftgymnich
DTSTART:20240420T180000Z
SEQUENCE:0
TRANSP:OPAQUE
URL:https://bruderschaftgymnich.de/termine/jubilaumsparty-175-jahre-st-hub-
 bruggen-2024-04-20
LOCATION:Erfthalle\, 50169 Kerpen-Türnich
SUMMARY:Jubiläumsparty - 175 Jahre St. Hub. Brüggen
CLASS:PUBLIC
DESCRIPTION:Jubiläumsparty anlässlich des 175-jährigen Jubiläums von St
 . Hubertus Brüggen mit der Coverband Matrix. Einlass ab 18:30 Uhr\, Begin
 n um 20:00 Uhr.  Einlass ab 16 Jahren. Ticket 12€ p.P. Ticketverkauf bei
  nadjakraemer96@gmail.com und vanessaberger95@web.de https://hubertusbrueg
 gen.de/ 
DTSTAMP:20260421T035150Z
CREATED:20240215T201537Z
LAST-MODIFIED:20240215T201537Z
END:VEVENT
END:VCALENDAR