BEGIN:VCALENDAR
VERSION:2.0
PRODID:BruderschaftGymnich/public
X-APPLE-CALENDAR-COLOR:#0063b5
X-OUTLOOK-COLOR:#0063b5
X-FUNAMBOL-COLOR:#0063b5
X-WR-CALNAME:Öffentlich - BruderschaftGymnich
X-WR-CALDESC:Termine der St. Seb. Bruderschaft Gymnich 1139 e.V.
BEGIN:VEVENT
UID:338d49a8-4404-5ad6-8600-8c62717b7093@bruderschaftgymnich
DTSTART:20200613T180000Z
SEQUENCE:0
TRANSP:OPAQUE
STATUS:CANCELLED
URL:https://bruderschaftgymnich.de/termine/kronungsball-2020-06-13
LOCATION:Bruderschaftshaus\, Brüggener Str. 113\, 50374 Erftstadt
SUMMARY:Krönungsball
CLASS:PUBLIC
DESCRIPTION:Nachdem die neuen Majestäten ermittelt wurden\, werden sie an 
 diesem Abend offiziell gekrönt. Ein einmaliger Ball\, der meist bis in di
 e frühen Morgenstunden dauert. 
DTSTAMP:20260422T005526Z
CREATED:20191201T195110Z
LAST-MODIFIED:20200501T112352Z
END:VEVENT
END:VCALENDAR