BEGIN:VCALENDAR
VERSION:2.0
PRODID:BruderschaftGymnich/public
X-APPLE-CALENDAR-COLOR:#0063b5
X-OUTLOOK-COLOR:#0063b5
X-FUNAMBOL-COLOR:#0063b5
X-WR-CALNAME:Öffentlich - BruderschaftGymnich
X-WR-CALDESC:Termine der St. Seb. Bruderschaft Gymnich 1139 e.V.
BEGIN:VEVENT
UID:36f97eb6-7ef7-5b53-b83d-805a84749c26@bruderschaftgymnich
DTSTART:20190311T163000Z
SEQUENCE:0
TRANSP:OPAQUE
DTEND:20190311T173000Z
URL:https://bruderschaftgymnich.de/termine/kumenisches-abendgebet-11-03-201
 9
LOCATION:St. Kunibert Gymnich
SUMMARY:ökumenisches Abendgebet
CLASS:PUBLIC
DESCRIPTION:Die Bruderschaft gestaltet das ökumenische Abendgebet in unser
 er Pfarrkirche St. Kunibert. 
DTSTAMP:20260422T074308Z
CREATED:20190128T152302Z
LAST-MODIFIED:20190708T171439Z
END:VEVENT
END:VCALENDAR