BEGIN:VCALENDAR
VERSION:2.0
PRODID:BruderschaftGymnich/public
X-APPLE-CALENDAR-COLOR:#0063b5
X-OUTLOOK-COLOR:#0063b5
X-FUNAMBOL-COLOR:#0063b5
X-WR-CALNAME:Öffentlich - BruderschaftGymnich
X-WR-CALDESC:Termine der St. Seb. Bruderschaft Gymnich 1139 e.V.
BEGIN:VEVENT
UID:7233e026-2617-51de-8831-e8b59f30ebf8@bruderschaftgymnich
DTSTART;VALUE=DATE:20220618
SEQUENCE:0
TRANSP:OPAQUE
URL:https://bruderschaftgymnich.de/termine/landesverbandsmeisterschaft-2022
 -06-18
LOCATION:Brüggener Str. 113\, 50374 Erftstadt
SUMMARY:Landesverbandsmeisterschaft
CLASS:PUBLIC
DESCRIPTION:10m Luftpistole - Auflage 
X-MICROSOFT-CDO-ALLDAYEVENT:TRUE
DTSTAMP:20260422T161740Z
CREATED:20210910T051547Z
LAST-MODIFIED:20210910T201244Z
END:VEVENT
END:VCALENDAR