BEGIN:VCALENDAR
VERSION:2.0
PRODID:BruderschaftGymnich/public
X-APPLE-CALENDAR-COLOR:#0063b5
X-OUTLOOK-COLOR:#0063b5
X-FUNAMBOL-COLOR:#0063b5
X-WR-CALNAME:Öffentlich - BruderschaftGymnich
X-WR-CALDESC:Termine der St. Seb. Bruderschaft Gymnich 1139 e.V.
BEGIN:VEVENT
UID:235d8674-03e2-5576-9f50-f1db6c9f6d79@bruderschaftgymnich
DTSTART;VALUE=DATE:20230121
SEQUENCE:0
TRANSP:OPAQUE
URL:https://bruderschaftgymnich.de/termine/patronatsfest-2023-01-21
LOCATION:Brüggener Str. 113\, 50374 Erftstadt
SUMMARY:Patronatsfest
CLASS:PUBLIC
DESCRIPTION:Programm   09:00 Uhr - Hochamt in der Pfarrkirche  10:30 Uhr - 
 Frühschoppen im Bruderschaftshaus  20:00 Uhr - Festball im Bruderschaftsh
 aus mit Ehrung der Jubilare. In diesem Jahr mit Musik von der Partyband Po
 pcorn   
X-MICROSOFT-CDO-ALLDAYEVENT:TRUE
DTSTAMP:20260420T111744Z
CREATED:20200129T091000Z
LAST-MODIFIED:20221127T181330Z
END:VEVENT
END:VCALENDAR