BEGIN:VCALENDAR
VERSION:2.0
PRODID:BruderschaftGymnich/public
X-APPLE-CALENDAR-COLOR:#0063b5
X-OUTLOOK-COLOR:#0063b5
X-FUNAMBOL-COLOR:#0063b5
X-WR-CALNAME:Öffentlich - BruderschaftGymnich
X-WR-CALDESC:Termine der St. Seb. Bruderschaft Gymnich 1139 e.V.
BEGIN:VEVENT
UID:052c6fd2-91cb-537b-84e2-ca4466a7ea7c@bruderschaftgymnich
DTSTART:20190609T113000Z
SEQUENCE:0
TRANSP:OPAQUE
DTEND:20190608T220000Z
URL:https://bruderschaftgymnich.de/termine/schtzenfest-kerpen-09-06-2019
SUMMARY:Schützenfest Kerpen
CLASS:PUBLIC
DTSTAMP:20260424T003736Z
CREATED:20190331T093135Z
LAST-MODIFIED:20190708T171439Z
END:VEVENT
END:VCALENDAR