BEGIN:VCALENDAR
VERSION:2.0
PRODID:BruderschaftGymnich/public
X-APPLE-CALENDAR-COLOR:#0063b5
X-OUTLOOK-COLOR:#0063b5
X-FUNAMBOL-COLOR:#0063b5
X-WR-CALNAME:Öffentlich - BruderschaftGymnich
X-WR-CALDESC:Termine der St. Seb. Bruderschaft Gymnich 1139 e.V.
BEGIN:VEVENT
UID:0997d2c0-3a57-5ede-9fda-09e1b0b86aaa@bruderschaftgymnich
DTSTART:20260802T123000Z
SEQUENCE:0
TRANSP:OPAQUE
URL:https://bruderschaftgymnich.de/termine/schutzenfest-bachem-2026-08-02
LOCATION:Fürstenbergstraße 74-76\, 50226 Frechen
SUMMARY:Schützenfest Maur. Bachem
CLASS:PUBLIC
DTSTAMP:20260420T154809Z
CREATED:20260119T210458Z
LAST-MODIFIED:20260417T060054Z
END:VEVENT
END:VCALENDAR