BEGIN:VCALENDAR
VERSION:2.0
PRODID:BruderschaftGymnich/public
X-APPLE-CALENDAR-COLOR:#0063b5
X-OUTLOOK-COLOR:#0063b5
X-FUNAMBOL-COLOR:#0063b5
X-WR-CALNAME:Öffentlich - BruderschaftGymnich
X-WR-CALDESC:Termine der St. Seb. Bruderschaft Gymnich 1139 e.V.
BEGIN:VEVENT
UID:0fa43aa0-2d7d-5141-ace4-9ba6376fcb50@bruderschaftgymnich
DTSTART:20260621T123000Z
SEQUENCE:0
TRANSP:OPAQUE
URL:https://bruderschaftgymnich.de/termine/schutzenfest-balkhausen-2026-06-
 07
LOCATION:Ursfelder Str. 39\, 50169 Kerpen
SUMMARY:Schützenfest Seb. Balkhausen
CLASS:PUBLIC
DTSTAMP:20260421T023632Z
CREATED:20260119T210327Z
LAST-MODIFIED:20260302T175634Z
END:VEVENT
END:VCALENDAR