BEGIN:VCALENDAR
VERSION:2.0
PRODID:BruderschaftGymnich/public
X-APPLE-CALENDAR-COLOR:#0063b5
X-OUTLOOK-COLOR:#0063b5
X-FUNAMBOL-COLOR:#0063b5
X-WR-CALNAME:Öffentlich - BruderschaftGymnich
X-WR-CALDESC:Termine der St. Seb. Bruderschaft Gymnich 1139 e.V.
BEGIN:VEVENT
UID:9cac1c6c-907a-5d79-943e-370b59590209@bruderschaftgymnich
DTSTART:20260719T123000Z
SEQUENCE:0
TRANSP:OPAQUE
URL:https://bruderschaftgymnich.de/termine/schutzenfest-bruggen-2026-07-19
LOCATION:Burgackerstraße 4\, 50169 Kerpen
SUMMARY:Schützenfest Hub. Brüggen
CLASS:PUBLIC
DTSTAMP:20260420T155157Z
CREATED:20260119T210422Z
LAST-MODIFIED:20260119T210742Z
END:VEVENT
END:VCALENDAR