BEGIN:VCALENDAR
VERSION:2.0
PRODID:BruderschaftGymnich/public
X-APPLE-CALENDAR-COLOR:#0063b5
X-OUTLOOK-COLOR:#0063b5
X-FUNAMBOL-COLOR:#0063b5
X-WR-CALNAME:Öffentlich - BruderschaftGymnich
X-WR-CALDESC:Termine der St. Seb. Bruderschaft Gymnich 1139 e.V.
BEGIN:VEVENT
UID:0051aea2-1b48-52f6-8108-cef46ef22151@bruderschaftgymnich
DTSTART:20260517T123000Z
SEQUENCE:0
TRANSP:OPAQUE
URL:https://bruderschaftgymnich.de/termine/schutzenfest-gladbach-2026-05-17
LOCATION:Gladbach
SUMMARY:Schützenfest Seb. Gladbach
CLASS:PUBLIC
DTSTAMP:20260421T023632Z
CREATED:20260119T210353Z
LAST-MODIFIED:20260119T210553Z
END:VEVENT
END:VCALENDAR