BEGIN:VCALENDAR
VERSION:2.0
PRODID:BruderschaftGymnich/public
X-APPLE-CALENDAR-COLOR:#0063b5
X-OUTLOOK-COLOR:#0063b5
X-FUNAMBOL-COLOR:#0063b5
X-WR-CALNAME:Öffentlich - BruderschaftGymnich
X-WR-CALDESC:Termine der St. Seb. Bruderschaft Gymnich 1139 e.V.
BEGIN:VEVENT
UID:135cda2e-cc64-5f85-98f5-9f11db2eed63@bruderschaftgymnich
DTSTART:20260830T123000Z
SEQUENCE:0
TRANSP:OPAQUE
URL:https://bruderschaftgymnich.de/termine/schutzenfest-seb-ehrenfeld-2026-
 08-31
LOCATION:Takustraße 37A\, 50825 Köln
SUMMARY:Schützenfest Seb. Ehrenfeld
CLASS:PUBLIC
DTSTAMP:20260420T191231Z
CREATED:20260119T210529Z
LAST-MODIFIED:20260417T213007Z
END:VEVENT
END:VCALENDAR