BEGIN:VCALENDAR
VERSION:2.0
PRODID:BruderschaftGymnich/public
X-APPLE-CALENDAR-COLOR:#0063b5
X-OUTLOOK-COLOR:#0063b5
X-FUNAMBOL-COLOR:#0063b5
X-WR-CALNAME:Öffentlich - BruderschaftGymnich
X-WR-CALDESC:Termine der St. Seb. Bruderschaft Gymnich 1139 e.V.
BEGIN:VEVENT
UID:85c9f654-d32f-56da-a5ad-6abc7d6e5f9d@bruderschaftgymnich
DTSTART;VALUE=DATE:20210618
SEQUENCE:0
TRANSP:OPAQUE
STATUS:CANCELLED
DTEND;VALUE=DATE:20210620
URL:https://bruderschaftgymnich.de/termine/unser-dorf-spielt-fussball-2021-
 06-18
LOCATION:Sportplatz\, Gymnich
SUMMARY:Unser Dorf spielt Fußball
CLASS:PUBLIC
DESCRIPTION:weitere Informationen unter https://www.sverfa09.de 
X-MICROSOFT-CDO-ALLDAYEVENT:TRUE
DTSTAMP:20260423T061952Z
CREATED:20210103T094625Z
LAST-MODIFIED:20210601T061741Z
END:VEVENT
END:VCALENDAR