BEGIN:VCALENDAR
VERSION:2.0
PRODID:BruderschaftGymnich/public
X-APPLE-CALENDAR-COLOR:#0063b5
X-OUTLOOK-COLOR:#0063b5
X-FUNAMBOL-COLOR:#0063b5
X-WR-CALNAME:Öffentlich - BruderschaftGymnich
X-WR-CALDESC:Termine der St. Seb. Bruderschaft Gymnich 1139 e.V.
BEGIN:VEVENT
UID:b3d5311e-1a96-5be9-8b57-151f149a9935@bruderschaftgymnich
DTSTART:20211014T170000Z
SEQUENCE:0
TRANSP:OPAQUE
URL:https://bruderschaftgymnich.de/termine/vereinsmeisterschaft-2021-10-14
LOCATION:Brüggener Str. 113\, 50374 Erftstadt
SUMMARY:Vereinsmeisterschaft
CLASS:PUBLIC
DESCRIPTION:LG Freihand Schützen-\, Alters-\, Damenklasse 
DTSTAMP:20260425T223417Z
CREATED:20210910T052404Z
LAST-MODIFIED:20210910T052404Z
END:VEVENT
END:VCALENDAR