BEGIN:VCALENDAR
VERSION:2.0
PRODID:BruderschaftGymnich/public
X-APPLE-CALENDAR-COLOR:#0063b5
X-OUTLOOK-COLOR:#0063b5
X-FUNAMBOL-COLOR:#0063b5
X-WR-CALNAME:Öffentlich - BruderschaftGymnich
X-WR-CALDESC:Termine der St. Seb. Bruderschaft Gymnich 1139 e.V.
BEGIN:VEVENT
UID:450d321c-1969-5028-a145-a518191f985a@bruderschaftgymnich
DTSTART:20230216T140000Z
SEQUENCE:0
TRANSP:OPAQUE
URL:https://bruderschaftgymnich.de/termine/weiberfastnachtstreiben-2023-02-
 16
LOCATION:Brüggener Str. 113\, 50374 Erftstadt
SUMMARY:Weiberfastnachtstreiben
CLASS:PUBLIC
DESCRIPTION:Endlich wieder Karneval! Wir feiern mit Euch Weiberfastnacht in
  unserem Bruderschaftshaus. Damit dieser Tag etwas ganz Besonderes wird\, 
 haben wir für ein abwechslungsreiches Programm gesorgt. So werden Prinz P
 ascal\, die Jemenicher Flüh und die Jemenicher Jonge und Mädche unsere B
 ühne stürmen. Ebenfalls besuchen uns die Wibbelstätzje der KG Rut-Wies 
 Balkhausen-Türnich für einen Auftritt in unserem Saal. Außerdem wird es
  einen LiveAct geben: Die sympathische Entertainment-Power-Rockband Los Ro
 ckos wird euch mit ihrer buntgemischt-verrückte Live-Performance begeiste
 rn. Der Eintritt ist frei! 
DTSTAMP:20260424T011235Z
CREATED:20221013T104110Z
LAST-MODIFIED:20221127T184358Z
END:VEVENT
END:VCALENDAR