BEGIN:VCALENDAR
VERSION:2.0
PRODID:BruderschaftGymnich/public
X-APPLE-CALENDAR-COLOR:#0063b5
X-OUTLOOK-COLOR:#0063b5
X-FUNAMBOL-COLOR:#0063b5
X-WR-CALNAME:Öffentlich - BruderschaftGymnich
X-WR-CALDESC:Termine der St. Seb. Bruderschaft Gymnich 1139 e.V.
BEGIN:VEVENT
UID:c7fbb564-bff8-5f2a-837c-4f4bf477c514@bruderschaftgymnich
DTSTART:20191208T140000Z
SEQUENCE:0
TRANSP:OPAQUE
DTEND:20191208T170000Z
URL:https://bruderschaftgymnich.de/termine/weihnachtsmarkt-08-12-2019
LOCATION:Bruderschaftshaus\, Brüggener Str. 113
SUMMARY:Weihnachtsmarkt
CLASS:PUBLIC
DESCRIPTION:Klein aber fein: Wie in den vergangenen Jahren organisiert unse
 re Jugendabteilung auch in diesem Jahr wieder einen schönen Weihnachtsmar
 kt in unserem Bruderschaftshaus. Neben selbstgebastelter Weihnachtsdeko ka
 nn man sein Können auch beim Armbrustschießen unter Beweis stellen. Für
  das leibliche Wohl wird wieder bestens gesorgt sein. Und vielleicht schau
 t im Laufe des gemütlichen Nachmittags ja auch der Nikolaus auf einen kur
 zen Besuch vorbei. Alle Bewohner von Gymnich und Freunde unserer Brudersch
 aft sind herzlich Willkommen. 
DTSTAMP:20260425T163200Z
CREATED:20181203T185714Z
LAST-MODIFIED:20191006T111353Z
END:VEVENT
END:VCALENDAR