BEGIN:VCALENDAR
VERSION:2.0
PRODID:BruderschaftGymnich/public
X-APPLE-CALENDAR-COLOR:#0063b5
X-OUTLOOK-COLOR:#0063b5
X-FUNAMBOL-COLOR:#0063b5
X-WR-CALNAME:Öffentlich - BruderschaftGymnich
X-WR-CALDESC:Termine der St. Seb. Bruderschaft Gymnich 1139 e.V.
BEGIN:VEVENT
UID:364d7a73-babc-549b-9092-eac9730568e6@bruderschaftgymnich
DTSTART:20221204T140000Z
SEQUENCE:0
TRANSP:OPAQUE
DTEND:20221204T180000Z
URL:https://bruderschaftgymnich.de/termine/weihnachtsmarkt-2022-12-04
LOCATION:Brüggener Str. 113\, 50374 Erftstadt
SUMMARY:Weihnachtsmarkt
CLASS:PUBLIC
DESCRIPTION:Die Jugend unserer Bruderschaft lädt herlich zum Weihnachtsmar
 kt ein. Angeboten werden  Glühwein und Kakao Tannenbaum-Weitwurf (16-18 U
 hr) Bastelaktion  Die Aktionen finden draußen statt. Denkt an warme Kleid
 ung. 
DTSTAMP:20260424T214254Z
CREATED:20210929T103942Z
LAST-MODIFIED:20221114T115442Z
END:VEVENT
END:VCALENDAR